Workbook

Sheet 入力シート
B1: 第15回西予市市長杯ソフトボール大会【入力シート】 | J1: 入 力 例
B3: 番号 | C3: 入力内容 | D3: 入 力 欄 | J3: 入 力 欄
B4: 1 | C4: チーム名 | J4: 西予ジュニア
B5: 2 | C5: 支部・連盟名 | J5: 西予支部
B6: 3 | C6: 代表者氏名 | J6: 西予 太郎
B7: 4 | C7: 責任者氏名 | J7: 西予 次郎
B8: 5 | C8: 責任者住所 | J8: 〒123-4567
B9: 6 | J9: 西予市宇和町卯之町1-123-4
B10: 7 | C10: E-mail | J10: seiyojr@seiyojｒ
B11: 8 | C11: 電話番号 | J11: 0894-12-3456
B12: 9 | C12: 携帯番号 | J12: 090-1234-5678
B13: 10 | C13: 車両台数 | J13: 5
B14: 11 | C14: 監 督（30） | J14: 野村 太郎
B15: 12 | C15: コーチ（31） | J15: 野村 次郎
B16: 13 | C16: コーチ（32） | J16: 野村 三郎
B17: 14 | C17: スコアラー | J17: 野村 花子
B18: ― | C18: 選手氏名 | D18: 背番号 | E18: 位置 | F18: 学年 | G18: 選手氏名 | H18: ふりがな | J18: 背番号 | K18: 位置 | L18: 学年 | M18: 選手氏名
B19: ― | D19: 入力例 | E19: 投手 | F19: 6 | G19: 西予 太郎 | H19: せいよ たろう | J19: 入力例 | K19: 投手 | L19: 6 | M19: 西予 太郎
B20: 15 | D20: 10 | J20: 10 | K20: 遊撃手 | L20: 6 | M20: 西予 主将
B21: 16 | D21: 1 | J21: 1 | K21: 投手 | L21: 6 | M21: 西予 一郎
B22: 17 | D22: 2 | J22: 2 | K22: 捕手 | L22: 6 | M22: 西予 二郎
B23: 18 | D23: 3 | J23: 3 | K23: 一塁手 | L23: 6 | M23: 西予 三郎
B24: 19 | D24: 4 | J24: 4 | K24: 二塁手 | L24: 6 | M24: ・
B25: 20 | D25: 5 | J25: 5 | K25: 三塁手 | L25: 5 | M25: ・
B26: 21 | D26: 6 | J26: 6 | K26: 内野手 | L26: 5 | M26: ・
B27: 22 | D27: 7 | J27: 7 | K27: 左翼手 | L27: 5 | M27: ・
B28: 23 | D28: 8 | J28: 8 | K28: 中堅手 | L28: 5 | M28: ・
B29: 24 | D29: 9 | J29: 9 | K29: 右翼手 | L29: 5 | M29: ・
B30: 25 | D30: 11 | J30: 11 | K30: 内野手 | L30: 4 | M30: ・
B31: 26 | D31: 12 | J31: 12 | K31: 内野手 | L31: 4 | M31: ・
... B39: 34 | D39: 20 | J39: 20 | K39: 外野手 | L39: 3 | M39: ・
B40: 35 | C40: チーム紹介文
B47: 36 | C47: 大会冊子掲載 | J47: 掲載するor掲載しない
B48: 37 | C48: お弁当注文数 | J48: お弁当注文数を入力
B49: 38 | C49: 交流戦の希望 | J49: 希望するor希望しない

Sheet ①参加申込書
B1: 第15回西予市市長杯ソフトボール大会参加申込書
B2: ①参加申込書（大会冊子用）
B4: =入力シート!D4 -> 0 | O4: チーム名 入力シート１
M5: =入力シート!D5 -> 0 | O5: 支部・連盟名 入力シート２
B6: 監 督 | G6: コーチ | K6: スコアラー | O6: 監督 入力シート11
B7: 30 | C7: =入力シート!D14 -> 0 | G7: 31 | H7: =入力シート!D15 -> 0 | K7: =入力シート!D17 -> 0 | O7: コーチ（31） 入力シート12
G8: 32 | H8: =入力シート!D16 -> 0 | O8: コーチ（32） 入力シート13
B9: 位置 | C9: ＵＮ | D9: 学年 | E9: 選手氏名 | H9: 位置 | I9: ＵＮ | J9: 学年 | K9: 選手氏名 | O9: スコアラー 入力シート14
B10: =入力シート!E20 -> 0 | C10: =入力シート!D20 -> 10 | D10: =入力シート!F20 -> 0 | E10: =入力シート!H20 -> 0 | H10: =入力シート!E30 -> 0 | I10: =入力シート!D30 -> 11 | J10: =入力シート!F30 -> 0 | K10: =入力シート!H30 -> 0
E11: =入力シート!G20 -> 0 | K11: =入力シート!G30 -> 0 | O11: 選手名簿 入力シート15～34
B12: =入力シート!E21 -> 0 | C12: =入力シート!D21 -> 1 | D12: =入力シート!F21 -> 0 | E12: =入力シート!H21 -> 0 | H12: =入力シート!E31 -> 0 | I12: =入力シート!D31 -> 12 | J12: =入力シート!F31 -> 0 | K12: =入力シート!H31 -> 0
E13: =入力シート!G21 -> 0 | K13: =入力シート!G31 -> 0 | O13: 選手名簿 入力シート15～34
B14: =入力シート!E22 -> 0 | C14: =入力シート!D22 -> 2 | D14: =入力シート!F22 -> 0 | E14: =入力シート!H22 -> 0 | H14: =入力シート!E32 -> 0 | I14: =入力シート!D32 -> 13 | J14: =入力シート!F32 -> 0 | K14: =入力シート!H32 -> 0
E15: =入力シート!G22 -> 0 | K15: =入力シート!G32 -> 0 | O15: 選手名簿 入力シート15～34
B16: =入力シート!E23 -> 0 | C16: =入力シート!D23 -> 3 | D16: =入力シート!F23 -> 0 | E16: =入力シート!H23 -> 0 | H16: =入力シート!E33 -> 0 | I16: =入力シート!D33 -> 14 | J16: =入力シート!F33 -> 0 | K16: =入力シート!H33 -> 0
E17: =入力シート!G23 -> 0 | K17: =入力シート!G33 -> 0 | O17: 選手名簿 入力シート15～34
B18: =入力シート!E24 -> 0 | C18: =入力シート!D24 -> 4 | D18: =入力シート!F24 -> 0 | E18: =入力シート!H24 -> 0 | H18: =入力シート!E34 -> 0 | I18: =入力シート!D34 -> 15 | J18: =入力シート!F34 -> 0 | K18: =入力シート!H34 -> 0
E19: =入力シート!G24 -> 0 | K19: =入力シート!G34 -> 0 | O19: 選手名簿 入力シート15～34
B20: =入力シート!E25 -> 0 | C20: =入力シート!D25 -> 5 | D20: =入力シート!F25 -> 0 | E20: =入力シート!H25 -> 0 | H20: =入力シート!E35 -> 0 | I20: =入力シート!D35 -> 16 | J20: =入力シート!F35 -> 0 | K20: =入力シート!H35 -> 0
E21: =入力シート!G25 -> 0 | K21: =入力シート!G35 -> 0 | O21: 選手名簿 入力シート15～34
B22: =入力シート!E26 -> 0 | C22: =入力シート!D26 -> 6 | D22: =入力シート!F26 -> 0 | E22: =入力シート!H26 -> 0 | H22: =入力シート!E36 -> 0 | I22: =入力シート!D36 -> 17 | J22: =入力シート!F36 -> 0 | K22: =入力シート!H36 -> 0
E23: =入力シート!G26 -> 0 | K23: =入力シート!G36 -> 0 | O23: 選手名簿 入力シート15～34
B24: =入力シート!E27 -> 0 | C24: =入力シート!D27 -> 7 | D24: =入力シート!F27 -> 0 | E24: =入力シート!H27 -> 0 | H24: =入力シート!E37 -> 0 | I24: =入力シート!D37 -> 18 | J24: =入力シート!F37 -> 0 | K24: =入力シート!H37 -> 0
E25: =入力シート!G27 -> 0 | K25: =入力シート!G37 -> 0 | O25: 選手名簿 入力シート15～34
B26: =入力シート!E28 -> 0 | C26: =入力シート!D28 -> 8 | D26: =入力シート!F28 -> 0 | E26: =入力シート!H28 -> 0 | H26: =入力シート!E38 -> 0 | I26: =入力シート!D38 -> 19 | J26: =入力シート!F38 -> 0 | K26: =入力シート!H38 -> 0
E27: =入力シート!G28 -> 0 | K27: =入力シート!G38 -> 0 | O27: 選手名簿 入力シート15～34
B28: =入力シート!E29 -> 0 | C28: =入力シート!D29 -> 9 | D28: =入力シート!F29 -> 0 | E28: =入力シート!H29 -> 0 | H28: =入力シート!E39 -> 0 | I28: =入力シート!D39 -> 20 | J28: =入力シート!F39 -> 0 | K28: =入力シート!H39 -> 0
E29: =入力シート!G29 -> 0 | K29: =入力シート!G39 -> 0 | O29: 選手名簿 入力シート15～34
B30: （チーム紹介文）
B31: =入力シート!D40 -> 0 | O31: チーム紹介文 入力シート35
B34: 交流戦の希望 | E34: =入力シート!D49 -> 0 | O34: 交流戦の希望 入力シート38
B35: この用紙は大会冊子に掲載します。
B36: 掲載を希望しない場合は、入力シー41に「希望しない」と入力してください。
B37: チーム紹介文は開会式入場行進時にアナウンスいたします。

Sheet ②連絡責任者
B1: 第15回西予市市長杯ソフトボール大会参加申込書
B2: ②連絡責任者
B4: 第15回西予市市長杯ソフトボール大会 チーム責任者連絡先
B5: チーム名 | C5: =入力シート!D4 -> 0 | E5: チーム名 入力シート１
B6: 代表者氏名 | C6: =入力シート!D6 -> 0 | E6: 代表者氏名 入力シート３
B7: 責任者氏名 | C7: =入力シート!D7 -> 0 | E7: 責任者氏名 入力シート４
B8: 住 所 | C8: =入力シート!D8 -> 0 | E8: 住所（〒） 入力シート５
C9: =入力シート!D9 -> 0 | E9: 住所 入力シート６
B10: E-mail | C10: =入力シート!D10 -> 0 | E10: E-mail 入力シート７
B11: 電話番号 | C11: =入力シート!D11 -> 0 | E11: 電話番号 入力シート８
B12: 携帯番号 | C12: =入力シート!D12 -> 0 | E12: 携帯番号 入力シート９
B13: 車両台数 | C13: =入力シート!D13 -> 0 | E13: 車両台数 入力シート10
B15: ※１．個人情報保護のため、上記情報は大会運営の連絡のみに使用します。
B16: ※２．大会冊子には掲載いたしません。
B17: ※３．ペーパーレス及び連絡等の迅速化を図るため、また、郵便料等の経費削減のため、今大会での連絡は上記のメールアドレスに連絡させていただきます。
B18: ※４．当日連絡のため、携帯電話への入力についてご理解のほどよろしくお願いします。
B19: ※５．駐車場の都合上、各チーム駐車場を指定させていただきます。

Sheet ③お弁当注文票
B1: 第15回西予市市長杯ソフトボール大会参加申込書
B2: ③お弁当注文票
B4: 第15回西予市市長杯ソフトボール大会 お弁当注文票
B5: チーム名 | C5: =入力シート!D4 -> 0 | E5: チーム名 入力シート１
B6: お弁当注文数 | C6: =入力シート!D48 -> 0 | E6: お弁当注文数 入力シート３７
B7: お弁当代金 | C7: =C6*700 -> 0 | E7: お弁当注文数×700円
B9: ※主催者があっせんするお弁当購入にご協力ください。 選手・保護者、関係者様もご注文をよろしくお願いいたします。 売り上げの一部を大会運営費として活用させていただきます。 販売価格１個700円 個数は参加申込書と一緒にご提出、弁当代は大会参加費と合わせて、 指定口座に振り込みください。
